BEGIN:VCALENDAR
PRODID:-//Microsoft Corporation//Outlook 12.0 MIMEDIR//EN
VERSION:2.0
METHOD:PUBLISH
BEGIN:VEVENT
CLASS:PUBLIC
UID:b99c142e391031fad2c25777ed0e5c18
DTSTART:20241010T210000Z
DTEND:20241010T210000Z
DTSTAMP:20260424T034318Z
LOCATION: Online
DESCRIPTION: 
URL;VALUE=URI:https://events.rbc.ru/event/670675439a7947e1fe831bbc
SUMMARY;LANGUAGE=ru:Конференция Онлайн-конференция для застройщиков «Время изменений: новая реальность»
END:VEVENT
END:VCALENDAR