BEGIN:VCALENDAR
PRODID:-//Microsoft Corporation//Outlook 12.0 MIMEDIR//EN
VERSION:2.0
METHOD:PUBLISH
BEGIN:VEVENT
CLASS:PUBLIC
UID:d2758e574e65c87b9f0882c77a31dffc
DTSTART:20260128T210000Z
DTEND:20260128T210000Z
DTSTAMP:20260425T051840Z
LOCATION: Москва\, Центр событий РБК
DESCRIPTION: 
URL;VALUE=URI:https://events.rbc.ru/event/693c0a629a7947ef711c2017
SUMMARY;LANGUAGE=ru:Конференция BIG DAY SMLT
END:VEVENT
END:VCALENDAR