BEGIN:VCALENDAR
PRODID:-//Microsoft Corporation//Outlook 12.0 MIMEDIR//EN
VERSION:2.0
METHOD:PUBLISH
BEGIN:VEVENT
CLASS:PUBLIC
UID:7b07550fe7a5bf256aadb9a6dd6e99b4
DTSTART:20260422T210000Z
DTEND:20260422T210000Z
DTSTAMP:20260426T034247Z
LOCATION: Москва\, БК «Атланты» (Романов пер\, 4\, стр.2)\, 15.00-17.00
DESCRIPTION: 
URL;VALUE=URI:https://events.rbc.ru/event/69db664f9a794740656ed291
SUMMARY;LANGUAGE=ru:Конференция Квартал вместо сарая: как комплексная застройка меняет Подмосковье
END:VEVENT
END:VCALENDAR